View In:
ArcGIS JavaScript
ArcGIS Online Map Viewer
ArcGIS Earth
ArcMap
View Footprint In:
ArcGIS Online Map Viewer
Service Description: VIIRS
Name: VIIRS
Description:
Single Fused Map Cache: false
Extent:
XMin: -180
YMin: -89.95001220703125
XMax: 180
YMax: 89.95001220703125
Spatial Reference: 4326
(4326)
Initial Extent:
XMin: -180
YMin: -89.95001220703125
XMax: 180
YMax: 89.95001220703125
Spatial Reference: 4326
(4326)
Full Extent:
XMin: -180
YMin: -89.95001220703125
XMax: 180
YMax: 89.95001220703125
Spatial Reference: 4326
(4326)
Time Info:
Start Time Field: AcquisitionDate
End Time Field: AcquisitionDate
Time Extent:
[2015/11/24 09:00:00 UTC, 2024/03/04 09:00:00 UTC]
Time Reference:
N/A
Pixel Size X: 2.74658203125E-4
Pixel Size Y: 2.74658203125E-4
Band Count: 3
Pixel Type: U8
RasterFunction Infos: {"rasterFunctionInfos": [{
"name": "None",
"description": "A No-Op Function.",
"help": ""
}]}
Mensuration Capabilities: Basic
Has Histograms: false
Has Colormap: false
Has Multi Dimensions : false
Rendering Rule:
Min Scale: 0
Max Scale: 0
Copyright Text:
Service Data Type: esriImageServiceDataTypeRGB
Min Values: N/A
Max Values: N/A
Mean Values: N/A
Standard Deviation Values: N/A
Object ID Field: OBJECTID
Fields:
-
OBJECTID
(
type: esriFieldTypeOID, alias: OBJECTID
)
-
Shape
(
type: esriFieldTypeGeometry, alias: Shape
)
-
Name
(
type: esriFieldTypeString, alias: Name, length: 200
)
-
MinPS
(
type: esriFieldTypeDouble, alias: MinPS
)
-
MaxPS
(
type: esriFieldTypeDouble, alias: MaxPS
)
-
LowPS
(
type: esriFieldTypeDouble, alias: LowPS
)
-
HighPS
(
type: esriFieldTypeDouble, alias: HighPS
)
-
Category
(
type: esriFieldTypeInteger, alias: Category
,
Coded Values:
[0: Unknown]
,
[1: Primary]
,
[2: Overview]
, ...6 more...
)
-
AcquisitionDate
(
type: esriFieldTypeDate, alias: AcquisitionDate, length: 8
)
-
Best
(
type: esriFieldTypeInteger, alias: Best
)
-
Bands
(
type: esriFieldTypeString, alias: Bands, length: 25
)
-
Satellite
(
type: esriFieldTypeString, alias: Satellite, length: 10
)
-
DayOfYear
(
type: esriFieldTypeInteger, alias: DayOfYear
)
-
M
(
type: esriFieldTypeInteger, alias: M
)
-
Reflectance
(
type: esriFieldTypeString, alias: Reflectance, length: 50
)
-
Dataset_ID
(
type: esriFieldTypeString, alias: Dataset_ID, length: 50
)
Default Mosaic Method: ByAttribute
Allowed Mosaic Methods: ByAttribute,LockRaster,None
SortField: Best
SortValue: 0
Mosaic Operator: First
Default Compression Quality: 80
Default Resampling Method: Bilinear
Max Record Count: 500
Max Image Height: 4000
Max Image Width: 4000
Max Download Image Count: 20
Max Mosaic Image Count: 5
Allow Raster Function: true
Allow Compute TiePoints: false
Supports Statistics: true
Supports Advanced Queries: true
Use StandardizedQueries: true
Raster Type Infos:
Name: Raster Dataset
Description: Supports all ArcGIS Raster Datasets
Help:
Has Raster Attribute Table: false
Edit Fields Info: null
Ownership Based AccessControl For Rasters: null
Child Resources:
Info
Key Properties
Legend
rasterFunctionInfos
Supported Operations:
Export Image
Query
Identify
Measure
Compute Histograms
Compute Statistics Histograms
Get Samples
Compute Class Statistics
Query Boundary
Compute Pixel Location
Validate
Project